BEGIN:VCALENDAR
VERSION:2.0
PRODID:-//What&#039;s On Affinity Xtra - ECPv6.15.20//NONSGML v1.0//EN
CALSCALE:GREGORIAN
METHOD:PUBLISH
X-ORIGINAL-URL:https://www.whatsonax.com
X-WR-CALDESC:Events for What&#039;s On Affinity Xtra
REFRESH-INTERVAL;VALUE=DURATION:PT1H
X-Robots-Tag:noindex
X-PUBLISHED-TTL:PT1H
BEGIN:VTIMEZONE
TZID:Europe/London
BEGIN:DAYLIGHT
TZOFFSETFROM:+0000
TZOFFSETTO:+0100
TZNAME:BST
DTSTART:20240331T010000
END:DAYLIGHT
BEGIN:STANDARD
TZOFFSETFROM:+0100
TZOFFSETTO:+0000
TZNAME:GMT
DTSTART:20241027T010000
END:STANDARD
BEGIN:DAYLIGHT
TZOFFSETFROM:+0000
TZOFFSETTO:+0100
TZNAME:BST
DTSTART:20250330T010000
END:DAYLIGHT
BEGIN:STANDARD
TZOFFSETFROM:+0100
TZOFFSETTO:+0000
TZNAME:GMT
DTSTART:20251026T010000
END:STANDARD
BEGIN:DAYLIGHT
TZOFFSETFROM:+0000
TZOFFSETTO:+0100
TZNAME:BST
DTSTART:20260329T010000
END:DAYLIGHT
BEGIN:STANDARD
TZOFFSETFROM:+0100
TZOFFSETTO:+0000
TZNAME:GMT
DTSTART:20261025T010000
END:STANDARD
END:VTIMEZONE
BEGIN:VEVENT
DTSTART;TZID=Europe/London:20251228T190000
DTEND;TZID=Europe/London:20251228T220000
DTSTAMP:20260421T064041
CREATED:20251119T124038Z
LAST-MODIFIED:20251119T124038Z
UID:10000143-1766948400-1766959200@www.whatsonax.com
SUMMARY:IT WASN'T MY CHURCH
DESCRIPTION:The UK’s ultimate Christian Stand-up comedy experience for all ages. Enjoy an evening of wholesome clean comedy.\n\n\n\nFarrell Productions proudly presents ‘The UK’s Ultimate Christian Stand-Up Comedy Experience! \nAn Evening of Clean\, Uplifting Stand-Up Comedy \nDate:Sunday 28th December 2025\nVenue: BETHEL CONVENTION CENTRE\, KELVIN WAY\, WEST BROM. B70 7JW\nTime: DOORS OPEN: 5:30 pm | SHOW STARTS: 7:00 pm \nEnquiries: enquiries@farrellproductions.co.uk \nBUY YOUR TICKETS NOW before Early Bird is SOLD OUT! \nIF YOUR WOULD LIKE TO PROMOTE YOUR BUSINESS AT THIS SHOW: https://www.farrellproductions.co.uk/popupshop \nThis is not just another comedy show – it’s a joy-filled celebration for the whole family. This exclusive event promises to be a night of laughter\, fellowship\, and unforgettable entertainment for people of all ages. From the youngest in the family to grandparents and everyone in between\, this is a night where all generations can come together and share in the gift of clean\, uplifting comedy. \nWith a fantastic line-up of talented Christian comedians\, each bringing their unique style and God-given humor\, you can expect an evening that will lift your spirits\, warm your heart\, and leave you laughing long after the show ends. The atmosphere will be filled with joy\, positivity\, and love – the perfect way to wrap up the Christmas season. \nThis event is designed with family in mind: \n• Clean comedy and good fun everyone can enjoy. \n• A variety of uplifting comedians\, fresh perspectives\, and plenty of laughter. \n• An uplifting experience – perfect for Christians\, families\, and anyone who enjoys wholesome fun. \nSo\, whether you’re bringing the children\, you’re friends\, or the whole extended family\, get ready for an evening that will be explosive with excitement\, overflowing with laughter\, and rich in love. \nCome and be part of this incredible event hosted by Farrell Productions – because laughter truly is a gift from God\, and there’s no better way to enjoy it than together! \nVenue\, performance\, catering and access information \nFirstly\, we have made changes to our registration process which will now havethe quickest registration process we have ever had and you will be pleased to know that you will be allowed to eat in the auditorium. \nThere is limited free parking at the venue car park on site. \nThe doors will open at 5.30pm and the show will start at 7.00pm (give or take 5-10 minutes). As you already know\, our show will not start any later than this so please be on time or you will potentially miss parts of the show. \nThere will be 2 entrances for attendees\, 1 for standard ticket holders and 1 for Premium ticket holders.If you have purchased premium seating tickets\, please make your way to the premium entrance as you will not have to queue. \nPremium ticket holders have designated seating allocated on their ticket. \nStandard seating may sit anywhere where a seat is available including together in groups\, anywhere where seats are available apart from within the premium seating area. \nOn arrival you will be asked for your ticket QR code by the registration staff who will register your arrival. \nThere will be stalls in the foyer for your perusal. (If you would like to host a stall\, please follow this link for more information: https://www.farrellproductions.co.uk/popupshop \nThere will be a catering company on site\, this company is a separate entity to Farrell Productions. \nFarrell Productions have gone through an extensive and rigorous process to select this catering company\, and we have every confidence that they will be able to provide an outstanding service and answer any questions you may have as they are a professional company that provides catering services to large professional corporations. \nAll meals must be pre ordered via this link: https://form.jotform.com/2muchpassioncic/interval-online-food-order-form \nAll catering queries must be directed to Vanessa Kelly via email at: 2mp.edencafe@gmail.com \nThere will be a 10 minute announcement advising of the start of the show at the beginning of the show and at the start of the second half. \nNo alcohol can be consumed on the premises. \nThe show will be audio and video recorded and the edited copies may be used by Farrell Productions for use as they see fit. \nThe show will not be streamed and recordings of the show will not be for sale. \nThere will be security and stewards on site and in the car park including first aiders and fire Marshalls. \nThe venue has disability access and disability parking on site. \nWhilst we endeavour to cover everything in this section\, we understand you may have questions not covered. If you have any queries\, please email our marketing team at enquiries@farrellproductions.co.uk \nAll tickets are non-refundable. \n\n\n @farrell_productions
URL:https://www.whatsonax.com/event/it-wasnt-my-church/
LOCATION:Bethel Convention Centre\, Kelvin Way\, West Bromwich\, Birmingham\, B70 7JW\, United Kingdom
CATEGORIES:Theatre & Comedy Event
ATTACH;FMTTYPE=image/jpeg:https://www.whatsonax.com/wp-content/uploads/2025/11/WhatonAX-169-28.jpg
ORGANIZER;CN="Farrell Productions":MAILTO:mailto:enquiries@farrellproductions.co.uk
END:VEVENT
END:VCALENDAR