BEGIN:VCALENDAR
VERSION:2.0
PRODID:-//What&#039;s On Affinity Xtra - ECPv6.15.20//NONSGML v1.0//EN
CALSCALE:GREGORIAN
METHOD:PUBLISH
X-ORIGINAL-URL:https://www.whatsonax.com
X-WR-CALDESC:Events for What&#039;s On Affinity Xtra
REFRESH-INTERVAL;VALUE=DURATION:PT1H
X-Robots-Tag:noindex
X-PUBLISHED-TTL:PT1H
BEGIN:VTIMEZONE
TZID:Europe/London
BEGIN:DAYLIGHT
TZOFFSETFROM:+0000
TZOFFSETTO:+0100
TZNAME:BST
DTSTART:20240331T010000
END:DAYLIGHT
BEGIN:STANDARD
TZOFFSETFROM:+0100
TZOFFSETTO:+0000
TZNAME:GMT
DTSTART:20241027T010000
END:STANDARD
BEGIN:DAYLIGHT
TZOFFSETFROM:+0000
TZOFFSETTO:+0100
TZNAME:BST
DTSTART:20250330T010000
END:DAYLIGHT
BEGIN:STANDARD
TZOFFSETFROM:+0100
TZOFFSETTO:+0000
TZNAME:GMT
DTSTART:20251026T010000
END:STANDARD
BEGIN:DAYLIGHT
TZOFFSETFROM:+0000
TZOFFSETTO:+0100
TZNAME:BST
DTSTART:20260329T010000
END:DAYLIGHT
BEGIN:STANDARD
TZOFFSETFROM:+0100
TZOFFSETTO:+0000
TZNAME:GMT
DTSTART:20261025T010000
END:STANDARD
END:VTIMEZONE
BEGIN:VEVENT
DTSTART;TZID=Europe/London:20250816T183000
DTEND;TZID=Europe/London:20250816T213000
DTSTAMP:20260421T082801
CREATED:20250515T232653Z
LAST-MODIFIED:20250515T232653Z
UID:10000024-1755369000-1755379800@www.whatsonax.com
SUMMARY:Farrell Productions Presents - Samson
DESCRIPTION:Prepare to witness the story of Samson like never before. This isn’t just a play—it’s a journey into one of the Bible’s most captivating true stories\, reimagined. \nFrom his miraculous birth and unmatched strength to his heart-wrenching betrayal and ultimate redemption\, Samson is a story that resonates with timeless power and relevance.
URL:https://www.whatsonax.com/event/farrell-productions-presents-samson/
LOCATION:Bethel Convention Centre\, Kelvin Way\, West Bromwich\, Birmingham\, B70 7JW\, United Kingdom
CATEGORIES:Theatre & Comedy Event
ATTACH;FMTTYPE=image/jpeg:https://www.whatsonax.com/wp-content/uploads/2025/05/IMG_0011.jpeg
ORGANIZER;CN="Farrell Productions":MAILTO:mailto:enquiries@farrellproductions.co.uk
END:VEVENT
END:VCALENDAR