BEGIN:VCALENDAR
VERSION:2.0
PRODID:-//What&#039;s On Affinity Xtra - ECPv6.15.20//NONSGML v1.0//EN
CALSCALE:GREGORIAN
METHOD:PUBLISH
X-ORIGINAL-URL:https://www.whatsonax.com
X-WR-CALDESC:Events for What&#039;s On Affinity Xtra
REFRESH-INTERVAL;VALUE=DURATION:PT1H
X-Robots-Tag:noindex
X-PUBLISHED-TTL:PT1H
BEGIN:VTIMEZONE
TZID:Europe/London
BEGIN:DAYLIGHT
TZOFFSETFROM:+0000
TZOFFSETTO:+0100
TZNAME:BST
DTSTART:20240331T010000
END:DAYLIGHT
BEGIN:STANDARD
TZOFFSETFROM:+0100
TZOFFSETTO:+0000
TZNAME:GMT
DTSTART:20241027T010000
END:STANDARD
BEGIN:DAYLIGHT
TZOFFSETFROM:+0000
TZOFFSETTO:+0100
TZNAME:BST
DTSTART:20250330T010000
END:DAYLIGHT
BEGIN:STANDARD
TZOFFSETFROM:+0100
TZOFFSETTO:+0000
TZNAME:GMT
DTSTART:20251026T010000
END:STANDARD
BEGIN:DAYLIGHT
TZOFFSETFROM:+0000
TZOFFSETTO:+0100
TZNAME:BST
DTSTART:20260329T010000
END:DAYLIGHT
BEGIN:STANDARD
TZOFFSETFROM:+0100
TZOFFSETTO:+0000
TZNAME:GMT
DTSTART:20261025T010000
END:STANDARD
END:VTIMEZONE
BEGIN:VEVENT
DTSTART;TZID=Europe/London:20251107T190000
DTEND;TZID=Europe/London:20251107T220000
DTSTAMP:20260420T161312
CREATED:20251001T173200Z
LAST-MODIFIED:20251001T173200Z
UID:10000113-1762542000-1762552800@www.whatsonax.com
SUMMARY:BIRMINGHAM: Lt Stitchie’s Road to Recovery Fundraiser Praise Party
DESCRIPTION:This special fundraising event\, hosted by Unique Touch Entertainment together support from Friends of Lt Stitchie Aims to brings the community together in support of The Laing family and the legendary Mr. Cleve Laing\, known to many as Lt Stitchie. As a pioneering figure in reggae and dancehall\, and his contribution to various kinds of events in the UK\, Lt Stitchie’s enduring legacy continues to inspire generations and we come together as a community to honor him. \nPurpose and Urgency \nLt Stitchie suffered a stroke in the summer of last year. While he has made gradual progress in his recovery—sometimes day by day\, sometimes week by week—his journey remains challenging. Access to essential medical equipment\, such as a tilt bed\, would greatly enhance and accelerate his rehabilitation. \nHow You Can Help \n· Join the event to show your support \n· Enjoy cultural music\, delicious food on sale\, and the warmth of community spirit \n· Make a financial contribution to aid Lt Stitchie’s recovery \n· Spread the word and encourage others to participate \nYour support is vital. Together\, we can ensure that Lt Stitchie receives the medical care and assistance he needs during this important chapter of his life. \nWhat to Expect: \n\nLive gospel music that lifts your spirit and gets your feet moving\nPowerful praise and worship that stirs the soul\nA welcoming atmosphere filled with laughter\, love\, and light\nNo alcohol—just pure vibes and Holy Spirit joy\n\nWhether you’re dancing in the aisles or reflecting quietly in the moment\, this is a space to to put your praise on\, connect with community\, and leave refreshed and inspired. \nEnjoy live entertainment from various artists\, (SEE fLYER)and SHEKINAH SOUND MINISTRY will turn the tables with Stitchie’s specials and the audience will get a chance to request their favourite Stitchie song. \nEven if you are not able to attend the event please purchase a ticket and pass to a loveone or choose other way to contribute via the following link below: \nSupport Go fund me. \nhttps://www.gofundme.com/f/support-stitchies-rehabilitate-journey?fbclid=IwY2xjawLf0RpleHRuA2FlbQIxMABicmlkETBxdGttNkllRnNKYnZzOG5IAR7oYfXkeIntm5mCn-kzzea85s8gEdwbL0PhrEX027yJ-AhUVC00zzdjAtn5rQ_aem_Kb2Iq-NVhzag9P7ZGisWcQ&sfnsn=scwspwa \n 
URL:https://www.whatsonax.com/event/birmingham-lt-stitchies-road-to-recovery-fundraiser-praise-party/
LOCATION:240-244 Lozells Road\, 240-244 Lozells Road\, Birmingham\, England\, B19 1NP\, United Kingdom
CATEGORIES:Community / Charity Events,Social Event
ATTACH;FMTTYPE=image/jpeg:https://www.whatsonax.com/wp-content/uploads/2025/10/WhatonAX-169-6.jpg
END:VEVENT
BEGIN:VEVENT
DTSTART;TZID=Europe/London:20250913T180000
DTEND;TZID=Europe/London:20250913T220000
DTSTAMP:20260420T161312
CREATED:20250905T170836Z
LAST-MODIFIED:20250905T170836Z
UID:10000043-1757786400-1757800800@www.whatsonax.com
SUMMARY:Gospel Karaoke
DESCRIPTION:GOSPEL KARAOKE IS BACK! 13th September 2025 at 6pm 13 Newcomen Road\, London E11 3PUTrophy  for best performance\, guest judges\, and pure vibes! Only £5 via EventbriteFollow  @gospelkaraokelondonBring your voice. Bring your praise. Let’s lift up the name of Jesus together! #GospelKaraokeLondon #GospelNight #ChristianEventsUK #FaithAndFun #LondonWorshipNight #SingYourHeartOut #GospelTalen
URL:https://www.whatsonax.com/event/gospel-karaoke/
LOCATION:Christ Evangelical Church\, 13 Newcomen Road\, London\, E11 3PU
CATEGORIES:Community / Charity Events,Music,Social Event
ATTACH;FMTTYPE=image/jpeg:https://www.whatsonax.com/wp-content/uploads/2025/09/WhatonAX-169-1.jpg
END:VEVENT
BEGIN:VEVENT
DTSTART;TZID=Europe/London:20250607T110000
DTEND;TZID=Europe/London:20250607T160000
DTSTAMP:20260420T161312
CREATED:20250604T152726Z
LAST-MODIFIED:20250604T152726Z
UID:10000026-1749294000-1749312000@www.whatsonax.com
SUMMARY:NTCG - The Rock hosts Blood Donation Knowledge Day
DESCRIPTION:Join us at NTCG The Rock Church\, Birmingham on Saturday 7 June\, 11am–4pm for Blood Donation Knowledge Day—talks\, tests\, film & more!
URL:https://www.whatsonax.com/event/ntcg-the-rock-hosts-blood-donation-knowledge-day/
LOCATION:Brookfield Life Centre\, 35 New Spring Street\, Birmingham\, B18 7LG\, United Kingdom
CATEGORIES:Community / Charity Events,Wellbeing Event
ATTACH;FMTTYPE=image/png:https://www.whatsonax.com/wp-content/uploads/2025/06/WhatonAX-169.png
END:VEVENT
BEGIN:VEVENT
DTSTART;TZID=Europe/London:20250526T140000
DTEND;TZID=Europe/London:20250526T170000
DTSTAMP:20260420T161312
CREATED:20250515T215144Z
LAST-MODIFIED:20250515T215144Z
UID:10000022-1748268000-1748278800@www.whatsonax.com
SUMMARY:Brotha Charles Presents - Gospel Jamz Family Fun Day
DESCRIPTION:Brotha Charles Presents – Gospel Jamz \nFamily Fun Day \nOn the Day – We will have the opportunity to meet & great fellow listeners/supporters\, fellowship and to be in ONE ACCORD. \nActivities include Rounders\, Football\, Relays\, 3 Legged Race\, Board Games etc \nImportant Notice – Please wear comfortable clothing and footwear. Also remember to bring something comfortable to sit on. Any activities you can bring on the day\, will be greatly appreciated.
URL:https://www.whatsonax.com/event/brotha-charles-presents-gospel-jamz-family-fun-day/
LOCATION:Hyde Park\, Marble Arch\, London\, W2 2UH\, United Kingdom
CATEGORIES:Community / Charity Events,Social Event
ATTACH;FMTTYPE=image/jpeg:https://www.whatsonax.com/wp-content/uploads/2025/05/IMG_0006.jpeg
END:VEVENT
BEGIN:VEVENT
DTSTART;TZID=Europe/London:20250510T120000
DTEND;TZID=Europe/London:20250510T170000
DTSTAMP:20260420T161312
CREATED:20250311T130628Z
LAST-MODIFIED:20250317T101608Z
UID:10000007-1746878400-1746896400@www.whatsonax.com
SUMMARY:Christian Aid Freedom Walk London 2025
DESCRIPTION:Join us for this sponsored walk Saturday 10th May 12 noon until 5.00pm\nEnd poverty step by step.\nThe new walk route for 2025 is approximately 5K.\nFun for all the family. \nSTART:\n12pm from St Martin-in-the-Fields accessed from Charing Cross Station\n(Tube: Northern and Bakerloo lines) \nENDS:\nat St Paul’s Cathedral for Evensong. \nWhy is this walk taking place?\nThe London Freedom Walk is a curtain raiser to Christian Aid Week 2025 when supporters focus on the challenges poverty\, injustice and climate change.\nWhat is Christian Aid Week all about this year?\nThis year the Christian Aid Week appeal is focusing on the work of the organisation’s partners in Guatemala.\nGuatemala is among the ten countries in the world most vulnerable to disasters and climate emergencies.\nOver the past three years\, extended dry seasons have severely damaged the livelihoods of subsistence farmers\, who rely upon rain for their crops.\nMillions of people are suffering from a crisis they have done the least to contribute to\, they need our help and support. We must act now. \nMake a donation\nhttps://fundraise.christianaid.org.uk/fundraiser-2025/London\nFundraising forms can be obtained by emailing: hello@christian-aid.org
URL:https://www.whatsonax.com/event/christian-aid-freedom-walk-london-2025/
CATEGORIES:Community / Charity Events
ATTACH;FMTTYPE=image/jpeg:https://www.whatsonax.com/wp-content/uploads/2025/03/WhatonAX-169-2.jpg
END:VEVENT
BEGIN:VEVENT
DTSTART;TZID=Europe/London:20250403T190000
DTEND;TZID=Europe/London:20250403T233000
DTSTAMP:20260420T161312
CREATED:20250310T162338Z
LAST-MODIFIED:20250312T112918Z
UID:10000004-1743706800-1743723000@www.whatsonax.com
SUMMARY:Holy Hype Sessions
DESCRIPTION:Get ready for Electricfying vibes with a holy & uplifting message at Holy Hype sessions\, a gathering of like-minded souls! \n  \nWelcome to the **Holy Hype sessions**! \nGet ready for a DJ session /showcase\, with a unique blend of uplifting & holy messages on modern rhythms at Kiss in Camden Town. \n  \nWe have an unforgettable evening featuring: \nRECORDED DJ SESSIONS\nARTIST SHOWCASE\nUPLIFTING ATMOSPHERE with after-work vibes. \n  \nJoin us on Thu Apr 03 2025 at 7:00 PM for an unforgettable in-person experience. \nLet’s come together to celebrate music and community in a lively atmosphere. \nDon’t miss out on this opportunity to have a great time with friends and meet new people. \nLIMITED CAPACITY \nSee you there!
URL:https://www.whatsonax.com/event/holy-hype-sessions/
LOCATION:Kiss – Camden Town\, 11 Camden High Street\, London\, NW1 7JE\, United Kingdom
CATEGORIES:Community / Charity Events,Social Event
ATTACH;FMTTYPE=image/jpeg:https://www.whatsonax.com/wp-content/uploads/2025/03/WhatonAX-169-1.jpg
END:VEVENT
END:VCALENDAR