BEGIN:VCALENDAR
VERSION:2.0
PRODID:-//What&#039;s On Affinity Xtra - ECPv6.15.20//NONSGML v1.0//EN
CALSCALE:GREGORIAN
METHOD:PUBLISH
X-ORIGINAL-URL:https://www.whatsonax.com
X-WR-CALDESC:Events for What&#039;s On Affinity Xtra
REFRESH-INTERVAL;VALUE=DURATION:PT1H
X-Robots-Tag:noindex
X-PUBLISHED-TTL:PT1H
BEGIN:VTIMEZONE
TZID:Europe/London
BEGIN:DAYLIGHT
TZOFFSETFROM:+0000
TZOFFSETTO:+0100
TZNAME:BST
DTSTART:20240331T010000
END:DAYLIGHT
BEGIN:STANDARD
TZOFFSETFROM:+0100
TZOFFSETTO:+0000
TZNAME:GMT
DTSTART:20241027T010000
END:STANDARD
BEGIN:DAYLIGHT
TZOFFSETFROM:+0000
TZOFFSETTO:+0100
TZNAME:BST
DTSTART:20250330T010000
END:DAYLIGHT
BEGIN:STANDARD
TZOFFSETFROM:+0100
TZOFFSETTO:+0000
TZNAME:GMT
DTSTART:20251026T010000
END:STANDARD
BEGIN:DAYLIGHT
TZOFFSETFROM:+0000
TZOFFSETTO:+0100
TZNAME:BST
DTSTART:20260329T010000
END:DAYLIGHT
BEGIN:STANDARD
TZOFFSETFROM:+0100
TZOFFSETTO:+0000
TZNAME:GMT
DTSTART:20261025T010000
END:STANDARD
END:VTIMEZONE
BEGIN:VEVENT
DTSTART;TZID=Europe/London:20251205T200000
DTEND;TZID=Europe/London:20251206T020000
DTSTAMP:20260420T234638
CREATED:20251001T181132Z
LAST-MODIFIED:20251001T181132Z
UID:10000115-1764964800-1764986400@www.whatsonax.com
SUMMARY:The End of Year Gospel Party
DESCRIPTION:For Tickets & Info Call: \nKingdom Ambassador – 07843038563 \nor \nBrother Charles – 07534610422 \n\nCaribbean food will be on sale and a licence bar will also be available.\nDress Code: Smart Casual\nCome out with a Godly attitude\, security tight but polite.
URL:https://www.whatsonax.com/event/the-end-of-year-gospel-party/
LOCATION:The Royal Banqueting Suite\, 28 Upper Tooting Road\, Tooting Bec\, London\, England\, SW17 7PG\, United Kingdom
CATEGORIES:Community / Charity Events,Live Concert
ATTACH;FMTTYPE=image/jpeg:https://www.whatsonax.com/wp-content/uploads/2025/10/WhatonAX-169-8.jpg
END:VEVENT
END:VCALENDAR