BEGIN:VCALENDAR
VERSION:2.0
PRODID:-//What&#039;s On Affinity Xtra - ECPv6.15.20//NONSGML v1.0//EN
CALSCALE:GREGORIAN
METHOD:PUBLISH
X-ORIGINAL-URL:https://www.whatsonax.com
X-WR-CALDESC:Events for What&#039;s On Affinity Xtra
REFRESH-INTERVAL;VALUE=DURATION:PT1H
X-Robots-Tag:noindex
X-PUBLISHED-TTL:PT1H
BEGIN:VTIMEZONE
TZID:Europe/London
BEGIN:DAYLIGHT
TZOFFSETFROM:+0000
TZOFFSETTO:+0100
TZNAME:BST
DTSTART:20240331T010000
END:DAYLIGHT
BEGIN:STANDARD
TZOFFSETFROM:+0100
TZOFFSETTO:+0000
TZNAME:GMT
DTSTART:20241027T010000
END:STANDARD
BEGIN:DAYLIGHT
TZOFFSETFROM:+0000
TZOFFSETTO:+0100
TZNAME:BST
DTSTART:20250330T010000
END:DAYLIGHT
BEGIN:STANDARD
TZOFFSETFROM:+0100
TZOFFSETTO:+0000
TZNAME:GMT
DTSTART:20251026T010000
END:STANDARD
BEGIN:DAYLIGHT
TZOFFSETFROM:+0000
TZOFFSETTO:+0100
TZNAME:BST
DTSTART:20260329T010000
END:DAYLIGHT
BEGIN:STANDARD
TZOFFSETFROM:+0100
TZOFFSETTO:+0000
TZNAME:GMT
DTSTART:20261025T010000
END:STANDARD
END:VTIMEZONE
BEGIN:VEVENT
DTSTART;TZID=Europe/London:20251107T190000
DTEND;TZID=Europe/London:20251107T220000
DTSTAMP:20260420T220305
CREATED:20251001T173200Z
LAST-MODIFIED:20251001T173200Z
UID:10000113-1762542000-1762552800@www.whatsonax.com
SUMMARY:BIRMINGHAM: Lt Stitchie’s Road to Recovery Fundraiser Praise Party
DESCRIPTION:This special fundraising event\, hosted by Unique Touch Entertainment together support from Friends of Lt Stitchie Aims to brings the community together in support of The Laing family and the legendary Mr. Cleve Laing\, known to many as Lt Stitchie. As a pioneering figure in reggae and dancehall\, and his contribution to various kinds of events in the UK\, Lt Stitchie’s enduring legacy continues to inspire generations and we come together as a community to honor him. \nPurpose and Urgency \nLt Stitchie suffered a stroke in the summer of last year. While he has made gradual progress in his recovery—sometimes day by day\, sometimes week by week—his journey remains challenging. Access to essential medical equipment\, such as a tilt bed\, would greatly enhance and accelerate his rehabilitation. \nHow You Can Help \n· Join the event to show your support \n· Enjoy cultural music\, delicious food on sale\, and the warmth of community spirit \n· Make a financial contribution to aid Lt Stitchie’s recovery \n· Spread the word and encourage others to participate \nYour support is vital. Together\, we can ensure that Lt Stitchie receives the medical care and assistance he needs during this important chapter of his life. \nWhat to Expect: \n\nLive gospel music that lifts your spirit and gets your feet moving\nPowerful praise and worship that stirs the soul\nA welcoming atmosphere filled with laughter\, love\, and light\nNo alcohol—just pure vibes and Holy Spirit joy\n\nWhether you’re dancing in the aisles or reflecting quietly in the moment\, this is a space to to put your praise on\, connect with community\, and leave refreshed and inspired. \nEnjoy live entertainment from various artists\, (SEE fLYER)and SHEKINAH SOUND MINISTRY will turn the tables with Stitchie’s specials and the audience will get a chance to request their favourite Stitchie song. \nEven if you are not able to attend the event please purchase a ticket and pass to a loveone or choose other way to contribute via the following link below: \nSupport Go fund me. \nhttps://www.gofundme.com/f/support-stitchies-rehabilitate-journey?fbclid=IwY2xjawLf0RpleHRuA2FlbQIxMABicmlkETBxdGttNkllRnNKYnZzOG5IAR7oYfXkeIntm5mCn-kzzea85s8gEdwbL0PhrEX027yJ-AhUVC00zzdjAtn5rQ_aem_Kb2Iq-NVhzag9P7ZGisWcQ&sfnsn=scwspwa \n 
URL:https://www.whatsonax.com/event/birmingham-lt-stitchies-road-to-recovery-fundraiser-praise-party/
LOCATION:240-244 Lozells Road\, 240-244 Lozells Road\, Birmingham\, England\, B19 1NP\, United Kingdom
CATEGORIES:Community / Charity Events,Social Event
ATTACH;FMTTYPE=image/jpeg:https://www.whatsonax.com/wp-content/uploads/2025/10/WhatonAX-169-6.jpg
END:VEVENT
BEGIN:VEVENT
DTSTART;TZID=Europe/London:20251122T130000
DTEND;TZID=Europe/London:20251122T160000
DTSTAMP:20260420T220305
CREATED:20251119T113506Z
LAST-MODIFIED:20251119T113506Z
UID:10000130-1763816400-1763827200@www.whatsonax.com
SUMMARY:A Gospel Choir Revival 2025
DESCRIPTION:Come and join us in singing some authentic Gospel music. Learn some new vocal techniques. Enjoy hanging out with some amazing people!\n\n\n\nWelcome to our monthly event organised by The College of Gospel UK™\, founded by one of the country’s highly acclaimed choir directors and vocal coaches\, Lascelles Haughton. This event is open to anyone who loves singing Gospel music and enjoys being in a choir with amazing singers and musicians. We cater for beginners to experienced singers. Come and enjoy learning some authentic Gospel songs and vocal techniques to help you grow as a singer. Plus it’s simply great fun\, in a safe environment! All are welcome! \nTickets cost: £15 (non-refundable + subject to Eventbrite booking fee) \nContact us via Facebook or Instagram to find out how you can join one of our college choirs or register for an audition. Facebook (The College of Gospel UK) or Instagram (@thecollegeofgospeluk) Find out how you can book one of our college choirs. \nPlease feel free to share the link with your friends\, family\, church groups and community choirs. \nOUR NEXT EVENT WILL TAKE PLACE ON: \nSATURDAY 13th DECEMBER 2025 \nOur New Year’s Concert is scheduled to take place on Saturday 3rd January 2026 tbc. \n\n\n 
URL:https://www.whatsonax.com/event/a-gospel-choir-revival-2025/
LOCATION:Saint Matthew’s Church Brixton\, Brixton Hill\, London\, SW2 1JF\, United Kingdom
CATEGORIES:Community / Charity Events,Live Concert,Music,Workshop
ATTACH;FMTTYPE=image/jpeg:https://www.whatsonax.com/wp-content/uploads/2025/11/WhatonAX-169-16.jpg
END:VEVENT
BEGIN:VEVENT
DTSTART;TZID=Europe/London:20251128T180000
DTEND;TZID=Europe/London:20251129T000000
DTSTAMP:20260420T220305
CREATED:20251001T174812Z
LAST-MODIFIED:20251001T174812Z
UID:10000114-1764352800-1764374400@www.whatsonax.com
SUMMARY:LONDON: Lt Stitchie’s Recovery Fundraiser Fish -fry Friday & After-Work Jam
DESCRIPTION:About the Event \nThis special fundraising event\, hosted by Unique Touch Entertainment together with Sunshine Horizon Promotions\, brings the community together in support of The Laing family and the legendary Mr. Cleve Laing\, known to many as Lt Stitchie. As a pioneering figure in reggae and dancehall\, Lt Stitchie’s enduring legacy continues to inspire generations. \nPurpose and Urgency \nLt Stitchie suffered a stroke in the summer of last year. While he has made gradual progress in his recovery—sometimes day by day\, sometimes week by week—his journey remains challenging. Access to essential medical equipment\, such as a tilt bed\, would greatly enhance and accelerate his rehabilitation. \nHow You Can Help \n· Join the event to show your support \n· Enjoy cultural music\, delicious food on sale\, and the warmth of community spirit \n· Make a financial contribution to aid Lt Stitchie’s recovery \n· Spread the word and encourage others to participate \nYour support is vital. Together\, we can ensure that Lt Stitchie receives the medical care and assistance he needs during this important chapter of his life. \nWhat to Expect from the Evening. \nJamaican Qusine Couples : Escov Fish and Bammy\, Fried Plaintain and Saltfish\, Jerk chicken and Festival will all be there from 6:00 PM. \nFollowed by live entertainment from various artists\, then Top DJs David Rodigan\, Countryman\, Brotha Charles and more will turn the tables with Stitchie’s specials and the audience will get a chance to request their favourite Stitchie song. \nEven if you are not able to attend the event please purchase a ticket and pass to a loveone or choose other way to contribute via the following link below: \nSupport Go fund me. \nhttps://www.gofundme.com/f/support-stitchies-rehabilitate-journey?fbclid=IwY2xjawLf0RpleHRuA2FlbQIxMABicmlkETBxdGttNkllRnNKYnZzOG5IAR7oYfXkeIntm5mCn-kzzea85s8gEdwbL0PhrEX027yJ-AhUVC00zzdjAtn5rQ_aem_Kb2Iq-NVhzag9P7ZGisWcQ&sfnsn=scwspwa \n 
URL:https://www.whatsonax.com/event/london-lt-stitchies-recovery-fundraiser-fish-fry-friday-after-work-jam/
LOCATION:Zoroastrian Centre\, 440-442 Alexandra Avenue\, Rayners Lane\, Harrow\, Middlesex\, England\, HA29TL\, United Kingdom
CATEGORIES:Community / Charity Events,Live Concert,Social Event
ATTACH;FMTTYPE=image/jpeg:https://www.whatsonax.com/wp-content/uploads/2025/10/WhatonAX-169-7.jpg
END:VEVENT
BEGIN:VEVENT
DTSTART;TZID=Europe/London:20251128T183000
DTEND;TZID=Europe/London:20251128T220000
DTSTAMP:20260420T220305
CREATED:20251113T200201Z
LAST-MODIFIED:20251113T203129Z
UID:10000123-1764354600-1764367200@www.whatsonax.com
SUMMARY:Back to School Sunday
DESCRIPTION:Join us for a fun-filled night of Christian games and activities as we go Back to Sunday School!\n\n\n\nJoin us for an exciting evening of fun and fellowship as we take it back to Sunday School.Get ready to test your bible knowledge and worship skills in a variety of games while connecting with others and forming community. This event is a great opportunity to relax\, unwind\, and enjoy some friendly competition. We will have refreshments available as well\, we can’t wait to see you there!
URL:https://www.whatsonax.com/event/1071/
LOCATION:Eden\, Station Approach\, Lower Sydenham\, SE26 5FD\, United Kingdom
CATEGORIES:Community / Charity Events,Social Event
ATTACH;FMTTYPE=image/png:https://www.whatsonax.com/wp-content/uploads/2025/11/WhatonAX-169-6.png
END:VEVENT
END:VCALENDAR